BEGIN:VCALENDAR

VERSION:2.0

PRODID:-//wp-events-plugin.com//6.6.4.4//EN

TZID:Asia/Jerusalem

X-WR-TIMEZONE:Asia/Jerusalem
BEGIN:VEVENT

UID:0-376@aerospace.technion.ac.il

DTSTART;TZID=Asia/Jerusalem:20180613T163000

DTEND;TZID=Asia/Jerusalem:20180613T173000

DTSTAMP:20230527T140407Z

URL:https://aerospace.technion.ac.il/events/an-investigation-of-wing-elast
 icity-effects-on-store-separation/

SUMMARY:An Investigation of Wing Elasticity Effects on Store Separation
DESCRIPTION:Lecturer:Itzik Mizrahi\n Faculty:Department of Aerospace Engine
 ering\n Institute:Technion – Israel Institute of Technology\n Location:C
 lassroom 165\, ground floor\, Library\, Aerospace Eng.\n Zoom: \n Abstract
 : \n Details: \n The study explores wing elasticity effects on the store s
 eparation process\, based on computational fluid dynamics simulations. The
  nominal test case is that of an unmanned aerial vehicle that carries two 
 identical stores\, without fins or control surfaces\, on two wing stations
  in a symmetric configuration. The stores are ejected during straight and 
 level flight at 0.35M\, 2500m.\nSimultaneous\, time-accurate analysis of t
 he dynamic aeroelastic wing response and the store's trajectory reveals th
 at the most significant aeroelastic effect is a roll motion developed by t
 he store. This roll motion is due to misalignment of the ejection force ve
 ctor and the store's center of gravity\, due to the wing's static and dyna
 mic elastic deformations.\nThe seminar talk will present a parametric stud
 y of the effects of various structural and configurational parameters on t
 he wing's response\, and consequently on the store's rolling motion.
CATEGORIES:Seminars
LOCATION:Classroom 165\, ground floor\, Library\, Aerospace Eng.

END:VEVENT

BEGIN:VTIMEZONE

TZID:Asia/Jerusalem

X-LIC-LOCATION:Asia/Jerusalem

BEGIN:DAYLIGHT

DTSTART:20180323T030000

TZOFFSETFROM:+0200

TZOFFSETTO:+0300

TZNAME:IDT

END:DAYLIGHT

END:VTIMEZONE
END:VCALENDAR