BEGIN:VCALENDAR

VERSION:2.0

PRODID:-//wp-events-plugin.com//6.6.4.4//EN

TZID:Asia/Jerusalem

X-WR-TIMEZONE:Asia/Jerusalem
BEGIN:VEVENT

UID:0-482@aerospace.technion.ac.il

DTSTART;TZID=Asia/Jerusalem:20160420T163000

DTEND;TZID=Asia/Jerusalem:20160420T173000

DTSTAMP:20230603T191629Z

URL:https://aerospace.technion.ac.il/events/club-%d7%9e%d7%93%d7%91%d7%a8%
 d7%99%d7%9d-%d7%91%d7%90%d7%95%d7%99%d7%a8-3/

SUMMARY:Club "מדברים באויר"
DESCRIPTION:Lecturer:Assoc. Prof. Tal Shima and Asst. Prof. Stephan Rudykh\
 n Faculty:Department of Aerospace Engineering\n Institute:Technion – Isr
 ael Institute of Technology\n Location:Classroom 165\, ground floor\, Libr
 ary\, Aerospace Eng.\n Zoom: \n Abstract: \n Details: \n Assoc. Prof. Tal 
 Shima's lecture will be on the topic:\n"Guidance of Aerial Vehicles - הנ
 חיית כלים אויריים"\nIn this short talk we will present some
  classical pursuit-evasion engagements between a single interceptor chasin
 g a single target\, as well as some new engagements that include more than
  two participants. We will present and discuss a few guidance strategies a
 pplicable in such aerial engagements. Some experimental work performed in 
 our Cooperative Autonomous SYstems (CASY) lab will be presented as well.\n
 Asst. Prof. Stephan Rudykh's lecture will be on the topic:\n"Fantastic Mat
 erials and Where to find them – חומרים פנטסטיים ואיפה
  למצוא אותם"\nYou have probably heard of\, seen\, or used 3D prin
 ters to make things. Well\, that’s what we do in our Lab. We design mate
 rials with new functionalities: they can trap waves\, change color\; they 
 can morph and act as artificial muscles. We learn from nature and combine 
 these design rules with our ability to use and 3D-print synthetic material
 s. I will show some pictures\, no equations - you should come.
CATEGORIES:Seminars
LOCATION:Classroom 165\, ground floor\, Library\, Aerospace Eng.

END:VEVENT

BEGIN:VTIMEZONE

TZID:Asia/Jerusalem

X-LIC-LOCATION:Asia/Jerusalem

BEGIN:DAYLIGHT

DTSTART:20160325T030000

TZOFFSETFROM:+0200

TZOFFSETTO:+0300

TZNAME:IDT

END:DAYLIGHT

END:VTIMEZONE
END:VCALENDAR