BEGIN:VCALENDAR

VERSION:2.0

PRODID:-//wp-events-plugin.com//6.6.4.4//EN

TZID:Asia/Jerusalem

X-WR-TIMEZONE:Asia/Jerusalem
BEGIN:VEVENT

UID:0-541@aerospace.technion.ac.il

DTSTART;TZID=Asia/Jerusalem:20150121T163000

DTEND;TZID=Asia/Jerusalem:20150121T173000

DTSTAMP:20230603T193746Z

URL:https://aerospace.technion.ac.il/events/experimental-and-theoretical-i
 nvestigation-of-the-guidance-system-of-an-exo-atmospheric-kill-vehicle/

SUMMARY:Experimental and Theoretical Investigation of the Guidance  System 
 of  an Exo-Atmospheric Kill Vehicle
DESCRIPTION:Lecturer:Vladimir Kurovsky\n Faculty:Department of Aerospace En
 gineering\,\n Institute:Technion – Israel Institute of Technology\n Loca
 tion:Classroom 165\, ground floor\, Library\, Aerospace Eng.\n Zoom: \n Ab
 stract: \n Details: \n One of the defense methods against ballistic missil
 es threat is to intercept them at the mid-course phase\, which is a part o
 f the ballistic trajectory that lays in space. At high altitude or in spac
 e\, an interceptor missile can be guided by moving the main motor nozzle\,
  known as TVC (Thrust Vector Control) or by reaction jets. Usually\, space
  interceptors are not equipped with explosive warhead\; therefore\, a hit-
 to-kill collision is required.  For this reason\, a TVC control may not b
 e sufficient because of its non-minimum phase feature\, which increases th
 e interceptor time constant. Therefore\, in the last few seconds before th
 e “end-game”\, it is best to maneuver using forward reaction jets guid
 ance or a combination of forward and tail reaction jets.\nThis research pr
 esents a theoretical and an experimental investigation of the solid propel
 lant based reaction jets guidance system for an exo-atmospheric intercepto
 r (kill vehicle). In the first part\, a theoretical model of the system wi
 th a number of interceptor versions and reaction jets system was built and
  solved numerically. The reaction jets and interceptors performance was in
 vestigated using a computer simulation\, integrated in a proportional navi
 gation (PN) guidance loop. In the second part of the research\, an experim
 ental system was designed and built\, whose purpose is to demonstrate the 
 work of the reaction jets system and to measure its thrust\, response time
 \, internal pressure and temperature conditions.
CATEGORIES:Seminars
LOCATION:Classroom 165\, ground floor\, Library\, Aerospace Eng.

END:VEVENT

BEGIN:VTIMEZONE

TZID:Asia/Jerusalem

X-LIC-LOCATION:Asia/Jerusalem

BEGIN:STANDARD

DTSTART:20141026T010000

TZOFFSETFROM:+0300

TZOFFSETTO:+0200

TZNAME:IST

END:STANDARD

END:VTIMEZONE
END:VCALENDAR