BEGIN:VCALENDAR

VERSION:2.0

PRODID:-//wp-events-plugin.com//6.6.4.4//EN

TZID:Asia/Jerusalem

X-WR-TIMEZONE:Asia/Jerusalem
BEGIN:VEVENT

UID:0-240@aerospace.technion.ac.il

DTSTART;TZID=Asia/Jerusalem:20210303T163000

DTEND;TZID=Asia/Jerusalem:20210303T173000

DTSTAMP:20230417T065903Z

URL:https://aerospace.technion.ac.il/events/experimentation-inlet-isolator
 -and-combustor-physics-in-scramjets/

SUMMARY:Experimentation: Inlet Isolator and Combustor Physics in Scramjets
DESCRIPTION:Lecturer:Prof. Tonghun Lee\n Faculty:Department of Mechanical S
 cience & Engineering\n Institute:University of Illinois Urbana-Champaign\n
  Location:https://technion.zoom.us/j/94032426223\n Zoom: \n Abstract: \n D
 etails: \n This talk outlines an effort to understand the impact of inlet 
 isolator physics on the combustion of scramjet engines under actual flight
  relevant high speed conditions. The objective of the proposed work is to 
 gain a fundamental understanding of the feedback mechanism between the bou
 ndary layer structures and separated flow in the isolator and the correspo
 nding combustion dynamics that can lead to instabilities and/or unstart. A
 n experimental effort is presented where unstart and combustion instabilit
 ies are investigated in an optically accessible axisymmetric scramjet mode
 l in a free flow high enthalpy flow tunnel (ACT-II). The effort is coupled
  with advanced spatially resolved diagnostics of both the isolator and the
  combustor region to obtain critical insight into the key physics\, and to
  provide foundational data for numerical simulation efforts.\nZoom Meeting
CATEGORIES:Seminars
LOCATION:https://technion.zoom.us/j/94032426223

END:VEVENT

BEGIN:VTIMEZONE

TZID:Asia/Jerusalem

X-LIC-LOCATION:Asia/Jerusalem

BEGIN:STANDARD

DTSTART:20201025T010000

TZOFFSETFROM:+0300

TZOFFSETTO:+0200

TZNAME:IST

END:STANDARD

END:VTIMEZONE
END:VCALENDAR