BEGIN:VCALENDAR

VERSION:2.0

PRODID:-//wp-events-plugin.com//6.6.4.4//EN

TZID:Asia/Jerusalem

X-WR-TIMEZONE:Asia/Jerusalem
BEGIN:VEVENT

UID:0-322@aerospace.technion.ac.il

DTSTART;TZID=Asia/Jerusalem:20190731T163000

DTEND;TZID=Asia/Jerusalem:20190731T173000

DTSTAMP:20230527T132211Z

URL:https://aerospace.technion.ac.il/events/fabrication-and-optimization-o
 f-custom-fluorescent-tracer-particles/

SUMMARY:Fabrication and Optimization of Custom Fluorescent Tracer Particles
DESCRIPTION:Lecturer:Meiran Miezner\n Faculty:Department of Aerospace Engin
 eering\n Institute:Technion – Israel Institute of Technology\n Location:
 Classroom 165\, ground floor\, Library\, Aerospace Eng.\n Zoom: \n Abstrac
 t: \n Details: \n Commercial fluorescent tracer particles used for particl
 e image velocimetry are available in a very limited range of sizes and den
 sities\, and are prohibitively expensive for large-scale experiments. Ther
 efore\, a method for producing tracer particles with a wide range of densi
 ties and sizes\, in a robust and inexpensive way is highly desirable.\nIn 
 this work\, we extend an earlier microfluidic system for tracer particle p
 roduction to a more stable\, pressure-driven operation\, and optimize the 
 fluorescence and polydispersity of the resulting particles as a function o
 f chemistry and flow properties. We show that the density of the resultant
  particles is limited by chemistry\, whereas the size is limited by both c
 hemistry and flow. We examine the robustness and operating limits of the n
 ew system\, and validate the sufficiency of the fluorescent response of th
 e fabricated particles in a realistic experimental environment.
CATEGORIES:Seminars
LOCATION:Classroom 165\, ground floor\, Library\, Aerospace Eng.

END:VEVENT

BEGIN:VTIMEZONE

TZID:Asia/Jerusalem

X-LIC-LOCATION:Asia/Jerusalem

BEGIN:DAYLIGHT

DTSTART:20190329T030000

TZOFFSETFROM:+0200

TZOFFSETTO:+0300

TZNAME:IDT

END:DAYLIGHT

END:VTIMEZONE
END:VCALENDAR