BEGIN:VCALENDAR

VERSION:2.0

PRODID:-//wp-events-plugin.com//6.6.4.4//EN

TZID:Asia/Jerusalem

X-WR-TIMEZONE:Asia/Jerusalem
BEGIN:VEVENT

UID:0-378@aerospace.technion.ac.il

DTSTART;TZID=Asia/Jerusalem:20180625T163000

DTEND;TZID=Asia/Jerusalem:20180625T173000

DTSTAMP:20230527T140451Z

URL:https://aerospace.technion.ac.il/events/generalized-equilibrium-flow-i
 n-a-shear-driven-open-microchannel/

SUMMARY:Generalized Equilibrium Flow in a Shear-Driven\, Open Microchannel
DESCRIPTION:Lecturer:Lilach Mazor\n Faculty:Department of Aerospace Enginee
 ring\n Institute:Technion – Israel Institute of Technology\n Location:Cl
 assroom 165\, ground floor\, Library\, Aerospace Eng.\n Zoom: \n Abstract:
  \n Details: \n Micropatterned materials are important in the construction
  of superhydrophobic surfaces for drag reduction and protective coatings. 
 A new generation of these materials incorporates a layer of immiscible flu
 id into the surface pattern to enhance or customize the surface mechanical
  behavior. When such liquid-infused surfaces are exposed to an external sh
 ear flow\, there is a risk of losing the infused liquid\, and thus designi
 ng surface structures capable of retaining fluid under shear becomes impor
 tant.\nIn this work\, theoretical calculations and experiments will be pre
 sented to describe the steady-state fluid retention in an open microfluidi
 c channel under shear\, as a function of the streamwise geometry of the ch
 annel.
CATEGORIES:Seminars
LOCATION:Classroom 165\, ground floor\, Library\, Aerospace Eng.

END:VEVENT

BEGIN:VTIMEZONE

TZID:Asia/Jerusalem

X-LIC-LOCATION:Asia/Jerusalem

BEGIN:DAYLIGHT

DTSTART:20180323T030000

TZOFFSETFROM:+0200

TZOFFSETTO:+0300

TZNAME:IDT

END:DAYLIGHT

END:VTIMEZONE
END:VCALENDAR