BEGIN:VCALENDAR

VERSION:2.0

PRODID:-//wp-events-plugin.com//6.6.4.4//EN

TZID:Asia/Jerusalem

X-WR-TIMEZONE:Asia/Jerusalem
BEGIN:VEVENT

UID:0-298@aerospace.technion.ac.il

DTSTART;TZID=Asia/Jerusalem:20200122T163000

DTEND;TZID=Asia/Jerusalem:20200122T173000

DTSTAMP:20230527T131223Z

URL:https://aerospace.technion.ac.il/events/guest-seminar-planes-of-future
 -past-dan-raymers-advanced-aircraft-designs-at-rockwell-lockheed-rand-and-
 crc-dr-dan-raymer/

SUMMARY:Guest Seminar: Planes of Future Past: Dan Raymer’s Advanced Aircr
 aft Designs at Rockwell\, Lockheed\, RAND\, and CRC - Dr. Dan Raymer
DESCRIPTION:Lecturer:Dr. Dan Raymer\n Faculty:President\n Institute:Concept
 ual Research Corporation\n Location:Auditorium 235\, second floor\, Aerosp
 ace Eng.\n Zoom: \n Abstract: \n Details: \n Subject: Futuristic Aircraft 
 Designs and a look at how big companies develop them.\nBenefit: Fun and ed
 ucational\, aimed at the airplane enthusiast crowd. No equations or calcul
 ations\, just lots of drawings and pictures of wild airplanes.\nDescriptio
 n: This talk by noted designer Dan Raymer covers his early involvement in 
 the projects that became the X-31\, B-2\, F-22\, F-35\, and more. Raymer d
 escribes how and why these projects began. Then he shows his original base
 line design concepts and explains how they were created\, what was learned
  from them\, and what happened in the end. Raymer will also show one of hi
 s newer\, wilder designs called Sparky Flapjack. This is an electric super
 -STOL designed for "pocket airports."\n[gallery columns="2" link="file" s
 ize="medium" ids="17254\,17252"]
CATEGORIES:Seminars
LOCATION:Auditorium 235\, second floor\, Aerospace Eng.

END:VEVENT

BEGIN:VTIMEZONE

TZID:Asia/Jerusalem

X-LIC-LOCATION:Asia/Jerusalem

BEGIN:STANDARD

DTSTART:20191027T010000

TZOFFSETFROM:+0300

TZOFFSETTO:+0200

TZNAME:IST

END:STANDARD

END:VTIMEZONE
END:VCALENDAR