BEGIN:VCALENDAR

VERSION:2.0

PRODID:-//wp-events-plugin.com//6.6.4.4//EN

TZID:Asia/Jerusalem

X-WR-TIMEZONE:Asia/Jerusalem
BEGIN:VEVENT

UID:0-21@aerospace.technion.ac.il

DTSTART;TZID=Asia/Jerusalem:20180508T173000

DTEND;TZID=Asia/Jerusalem:20180508T183000

DTSTAMP:20221030T083440Z

URL:https://aerospace.technion.ac.il/events/gvahim-excellence-program-cere
 mony-4/

SUMMARY:“Gvahim” Excellence Program Ceremony
DESCRIPTION:Lecturer:\n Faculty:Department of Aerospace Engineering\n Insti
 tute:Technion – Israel Institute of Technology\n Location:Aerospace Engi
 neering Library Classroom (no. 165)\n Zoom: \n Abstract: \n Details: Schol
 arships and certificates for the students of “Gvahim” Excellence Progr
 am\, for the 2016-2017 academic year.\nInvited: The Program’s students a
 nd their families\, Faculty members\, B.Sc. students and colleagues from t
 he Aerospace Industry .\nFor registration\, please see:\n\n\n 
CATEGORIES:Events
LOCATION:Aerospace Engineering Library Classroom (no. 165)

END:VEVENT

BEGIN:VTIMEZONE

TZID:Asia/Jerusalem

X-LIC-LOCATION:Asia/Jerusalem

BEGIN:DAYLIGHT

DTSTART:20180323T030000

TZOFFSETFROM:+0200

TZOFFSETTO:+0300

TZNAME:IDT

END:DAYLIGHT

END:VTIMEZONE
END:VCALENDAR