BEGIN:VCALENDAR

VERSION:2.0

PRODID:-//wp-events-plugin.com//6.6.4.4//EN

TZID:Asia/Jerusalem

X-WR-TIMEZONE:Asia/Jerusalem
BEGIN:VEVENT

UID:0-505@aerospace.technion.ac.il

DTSTART;TZID=Asia/Jerusalem:20151026T163000

DTEND;TZID=Asia/Jerusalem:20151026T173000

DTSTAMP:20230603T192437Z

URL:https://aerospace.technion.ac.il/events/home-manufacturing-or-finding-
 out-that-you-have-too-much-spare-time/

SUMMARY:Home Manufacturing - or Finding Out That You Have Too Much Spare Ti
 me
DESCRIPTION:Lecturer:Nadav Katzman\n Faculty:\n Institute:Rafael / MOA\n Lo
 cation:Classroom 165\, ground floor\, Library\, Aerospace Eng.\n Zoom: \n 
 Abstract: \n Details: \n The lecture describes the process of combining a 
 hobby project and home manufacturing techniques to create a home built UAV
  system (ground station and drone for the FPV hobby).\nThe project is comp
 rised of subsystems made from scratch (at home) as well as integrated open
  source / open hardware modules.
CATEGORIES:Seminars
LOCATION:Classroom 165\, ground floor\, Library\, Aerospace Eng.

END:VEVENT

BEGIN:VTIMEZONE

TZID:Asia/Jerusalem

X-LIC-LOCATION:Asia/Jerusalem

BEGIN:STANDARD

DTSTART:20151025T010000

TZOFFSETFROM:+0300

TZOFFSETTO:+0200

TZNAME:IST

END:STANDARD

END:VTIMEZONE
END:VCALENDAR