BEGIN:VCALENDAR

VERSION:2.0

PRODID:-//wp-events-plugin.com//6.6.4.4//EN

TZID:Asia/Jerusalem

X-WR-TIMEZONE:Asia/Jerusalem
BEGIN:VEVENT

UID:0-406@aerospace.technion.ac.il

DTSTART;TZID=Asia/Jerusalem:20170823T163000

DTEND;TZID=Asia/Jerusalem:20170823T173000

DTSTAMP:20230530T180430Z

URL:https://aerospace.technion.ac.il/events/multi-hotwire-probe-sensitivit
 y-optimization-in-constant-temperature-anemometry-cta-for-transonic-flows/

SUMMARY:Multi-Hotwire Probe Sensitivity Optimization in Constant Temperatur
 e Anemometry (Cta) for Transonic Flows
DESCRIPTION:Lecturer:Efim Yablochkin\n Faculty:Department of Aerospace Engi
 neering\n Institute:Technion – Israel Institute of Technology\n Location
 :Classroom 165\, ground floor\, Library\, Aerospace Eng.\n Zoom: \n Abstra
 ct: \n Details: \n A simple optimization method is proposed for multi-wire
  CTA probe design. The optimization computes the sensitivities to density\
 , velocity and total temperature for each wire\, based on empirical Nu –
  M - Re and ƞ – M – Re correlation for heated cylinders in compressi
 ble flow. This correlation is a reasonable estimator for the compressibili
 ty effect\, enabling the reduction to M-independent relation. The output i
 s a set of optimal wire temperatures and diameters\, recommended for probe
  production. Following the manufacturing\, it is necessary to calibrate ea
 ch wire for Re - Nu relationship and apply together with the empirical com
 pressibility relation. The technique allows the use of a single probe with
  multiple wires across a range of transonic flows with various conditions.
CATEGORIES:Seminars
LOCATION:Classroom 165\, ground floor\, Library\, Aerospace Eng.

END:VEVENT

BEGIN:VTIMEZONE

TZID:Asia/Jerusalem

X-LIC-LOCATION:Asia/Jerusalem

BEGIN:DAYLIGHT

DTSTART:20170324T030000

TZOFFSETFROM:+0200

TZOFFSETTO:+0300

TZNAME:IDT

END:DAYLIGHT

END:VTIMEZONE
END:VCALENDAR