BEGIN:VCALENDAR

VERSION:2.0

PRODID:-//wp-events-plugin.com//6.6.4.4//EN

TZID:Asia/Jerusalem

X-WR-TIMEZONE:Asia/Jerusalem
BEGIN:VEVENT

UID:0-444@aerospace.technion.ac.il

DTSTART;TZID=Asia/Jerusalem:20170517T163000

DTEND;TZID=Asia/Jerusalem:20170517T173000

DTSTAMP:20230603T190200Z

URL:https://aerospace.technion.ac.il/events/new-propellants-for-ion-thrust
 ers-iodine-and-other-alternatives/

SUMMARY:New Propellants for Ion Thrusters – Iodine and Other Alternatives
DESCRIPTION:Lecturer:Dr. Kristof Holste\n Faculty:Institute of Experimental
  Physics I\n Institute:Justus-Liebig-University of Giessen\, Germany\n Loc
 ation:Classroom 165\, ground floor\, Library\, Aerospace Eng.\n Zoom: \n A
 bstract: \n Details: \n Ion thrusters are nowadays routinely used on satel
 lites for attitude control and for dedicated space missions\, such as GOCE
  and Dawn. The commonly used propellant for ion thrusters is the noble-gas
  xenon\, which comprise some advantages such as high atomic mass\, no chem
 ical reactivity\, and efficient ionization. One disadvantage of xenon is t
 he high price\, which leads to high costs for testing and qualification of
  thrusters. Potential candidates for alternative propellants are currently
  under investigation in the electric propulsion community. An interesting 
 material is iodine\, which has a high mass\, a high ionization efficiency 
 and a high density due to its solid nature at standard temperature. It can
  be evaporated with moderate heating power and was successfully tested rec
 ently at Giessen university with a radiofrequency ion thruster. The talk w
 ill present performance results of iodine and gives an overview about alte
 rnative propellants in general.
CATEGORIES:Seminars
LOCATION:Classroom 165\, ground floor\, Library\, Aerospace Eng.

END:VEVENT

BEGIN:VTIMEZONE

TZID:Asia/Jerusalem

X-LIC-LOCATION:Asia/Jerusalem

BEGIN:DAYLIGHT

DTSTART:20170324T030000

TZOFFSETFROM:+0200

TZOFFSETTO:+0300

TZNAME:IDT

END:DAYLIGHT

END:VTIMEZONE
END:VCALENDAR