BEGIN:VCALENDAR

VERSION:2.0

PRODID:-//wp-events-plugin.com//6.6.4.4//EN

TZID:Asia/Jerusalem

X-WR-TIMEZONE:Asia/Jerusalem
BEGIN:VEVENT

UID:0-248@aerospace.technion.ac.il

DTSTART;TZID=Asia/Jerusalem:20230605T133000

DTEND;TZID=Asia/Jerusalem:20230605T143000

DTSTAMP:20230605T073121Z

URL:https://aerospace.technion.ac.il/events/on-the-use-of-supersonic-jet-c
 urtains-for-control-of-moments-on-tailless-aircraft/

SUMMARY:On The Use of Supersonic Jet-Curtains for Control of Moments on Tai
 lless Aircraft
DESCRIPTION:Lecturer:Prof. Israel Wygnanski\n Faculty:AME Department \n Ins
 titute:The University of Arizona. Also\, Professor Emeritus Tel Aviv Unive
 rsity\n Location:Classroom 165\, ground floor\, Library\, Aerospace Eng.\n
  Zoom: https://technion.zoom.us/j/97346140543\n Abstract: The purpose of t
 his study was to explore the replacement of conventional moving control su
 rfaces on a typical tailless aircraft model at high subsonic cruise speeds
 . Since the efficacy of sweeping jet actuators was only demonstrated at lo
 w speeds\, the current test considered their potential replacement by Supe
 rsonic Steady Jets (SSJs) of identical nozzle dimensions. It was shown tha
 t even a single SSJ properly located and appropriately oriented may outper
 form an array of actuators whose location and orientation did not take int
 o consideration the changing local flow conditions. The test article chose
 n was the SWIFT model that represents a typical blended wing-body configur
 ation of a tailless aircraft. It was selected because it was tested extens
 ively using Sweeping Jet Actuators (SJAs) that could be used for compariso
 n. When a single supersonic jet designed for Mn=1.5 was used to control th
 e pitch it was able to increase the trimmed lift almost as well as an arra
 y of SJAs while providing a much better yaw control at small accompanying 
 rolling moment. These tests proved that the momentum input is but one of m
 any parameters controlling the flow and they demonstrated the richness of 
 the parameter space involved in AFC design even after the wing design was 
 frozen\n\n\n Details: \n 
CATEGORIES:Seminars
LOCATION:Classroom 165\, ground floor\, Library\, Aerospace Eng.

END:VEVENT

BEGIN:VTIMEZONE

TZID:Asia/Jerusalem

X-LIC-LOCATION:Asia/Jerusalem

BEGIN:DAYLIGHT

DTSTART:20230324T030000

TZOFFSETFROM:+0200

TZOFFSETTO:+0300

TZNAME:IDT

END:DAYLIGHT

END:VTIMEZONE
END:VCALENDAR