BEGIN:VCALENDAR

VERSION:2.0

PRODID:-//wp-events-plugin.com//6.6.4.4//EN

TZID:Asia/Jerusalem

X-WR-TIMEZONE:Asia/Jerusalem
BEGIN:VEVENT

UID:0-26@aerospace.technion.ac.il

DTSTART;TZID=Asia/Jerusalem:20170223T090000

DTEND;TZID=Asia/Jerusalem:20170223T100000

DTSTAMP:20221030T083424Z

URL:https://aerospace.technion.ac.il/events/open-day-2017/

SUMMARY:"Open Day" 2017
DESCRIPTION:Lecturer:\n Faculty:Department of Aerospace Engineering\n Insti
 tute:Technion – Israel Institute of Technology\n Location:The Technion C
 ampus\n Zoom: \n Abstract: \n Details: For more details (in Hebrew)\, clic
 k here.\n 
CATEGORIES:Events
LOCATION:The Technion Campus

END:VEVENT

BEGIN:VTIMEZONE

TZID:Asia/Jerusalem

X-LIC-LOCATION:Asia/Jerusalem

BEGIN:STANDARD

DTSTART:20161030T010000

TZOFFSETFROM:+0300

TZOFFSETTO:+0200

TZNAME:IST

END:STANDARD

END:VTIMEZONE
END:VCALENDAR