BEGIN:VCALENDAR

VERSION:2.0

PRODID:-//wp-events-plugin.com//6.6.4.4//EN

TZID:Asia/Jerusalem

X-WR-TIMEZONE:Asia/Jerusalem
BEGIN:VEVENT

UID:0-425@aerospace.technion.ac.il

DTSTART;TZID=Asia/Jerusalem:20170522T163000

DTEND;TZID=Asia/Jerusalem:20170522T173000

DTSTAMP:20230530T180747Z

URL:https://aerospace.technion.ac.il/events/parametric-investigation-of-al
 uminum-tungsten-and-fluor-polymer-mixtures/

SUMMARY:Parametric Investigation of Aluminum\, Tungsten and Fluor-Polymer M
 ixtures
DESCRIPTION:Lecturer:Hila Shaltieli\n Faculty:The Interdisciplinary Program
  of Design and Manufacturing Management\, Faculty of Aerospace Engineering
 \,\n Institute:Technion – Israel Institute of Technology\n Location:Clas
 sroom 165\, ground floor\, Library\, Aerospace Eng.\n Zoom: \n Abstract: \
 n Details: \n The Reactive materials under study are solids mixtures of Al
 uminum\, Tungsten and different types of Fluor-Polymer powders. The metal 
 powders used as the fuel and the Fluor- Polymers as oxidizers of the mixtu
 res. The Energy release potential of Aluminum / Fluor- Polymer mixture is 
 very significant. Indeed\, under certain conditions\, provided that the po
 lymer chain starts to brake\, an exothermic reaction between the reactants
  produces a great amount of heat\, gases and solid particles residues. The
  main issues in the lecture will be the ignition characteristics as well a
 s thermal and output performance of the mixtures. In order to examine thes
 e parameters\, different types of mixtures were prepared and a variety of 
 measurements and comparative experiments were conducted. The research incl
 uded thermal and calorimetric analyses performed in three different instru
 ments\, and different experiments to examine the ignition reaction\, among
  them open burning and closed vessel experiments.
CATEGORIES:Seminars
LOCATION:Classroom 165\, ground floor\, Library\, Aerospace Eng.

END:VEVENT

BEGIN:VTIMEZONE

TZID:Asia/Jerusalem

X-LIC-LOCATION:Asia/Jerusalem

BEGIN:DAYLIGHT

DTSTART:20170324T030000

TZOFFSETFROM:+0200

TZOFFSETTO:+0300

TZNAME:IDT

END:DAYLIGHT

END:VTIMEZONE
END:VCALENDAR