BEGIN:VCALENDAR

VERSION:2.0

PRODID:-//wp-events-plugin.com//6.6.4.4//EN

TZID:Asia/Jerusalem

X-WR-TIMEZONE:Asia/Jerusalem
BEGIN:VEVENT

UID:0-203@aerospace.technion.ac.il

DTSTART;TZID=Asia/Jerusalem:20230614T123000

DTEND;TZID=Asia/Jerusalem:20230614T143000

DTSTAMP:20230501T093135Z

URL:https://aerospace.technion.ac.il/events/research-day-2023/

SUMMARY:Research Day 2023
DESCRIPTION:Lecturer:\n Faculty:\n Institute:\n Location:Faculty of Aerospa
 ce Engineering\n Zoom: \n Abstract: Our Graduate Studies Research Day is a
 n annual event that attracts not only Aerospace Engineering students and f
 aculty members but also students from around the campus as well as aerospa
 ce professionals from the industry. The graduate students presented their 
 research posters to the audience.\n\nAs part of the tradition\, a judging 
 committee chose the best posters of M.Sc. students and Ph.D. students. In 
 addition\, the crowd picked its favorite.\n\n\n Details: \n 
CATEGORIES:Events
LOCATION:Faculty of Aerospace Engineering

END:VEVENT

BEGIN:VTIMEZONE

TZID:Asia/Jerusalem

X-LIC-LOCATION:Asia/Jerusalem

BEGIN:DAYLIGHT

DTSTART:20230324T030000

TZOFFSETFROM:+0200

TZOFFSETTO:+0300

TZNAME:IDT

END:DAYLIGHT

END:VTIMEZONE
END:VCALENDAR