BEGIN:VCALENDAR

VERSION:2.0

PRODID:-//wp-events-plugin.com//6.6.4.4//EN

TZID:Asia/Jerusalem

X-WR-TIMEZONE:Asia/Jerusalem
BEGIN:VEVENT

UID:0-478@aerospace.technion.ac.il

DTSTART;TZID=Asia/Jerusalem:20160706T163000

DTEND;TZID=Asia/Jerusalem:20160706T173000

DTSTAMP:20230603T191519Z

URL:https://aerospace.technion.ac.il/events/satellite-collision-awareness-
 and-avoidance/

SUMMARY:Satellite Collision Awareness and Avoidance
DESCRIPTION:Lecturer:Elad Denenberg\n Faculty:Technion Autonomous Systems P
 rogram\n Institute:Technion – Israel Institute of Technology\n Location:
 Classroom 165\, ground floor\, Library\, Aerospace Eng.\n Zoom: \n Abstrac
 t: \n Details: \n Spacecraft formation and cluster flight control have see
 n growing interest in the last decade. However\, the problem of finding th
 e optimal debris collision avoidance maneuver for a member of a cluster ha
 s received little attention. Our work explores novel optimization methods 
 supporting the calculation of a debris evasive maneuver for a satellite wh
 ich is a member of a cluster. These include an improvement to the calculat
 ion of Time of Closest Approach (TCA)\, a new method for calculating the m
 aximum distance between orbiting objects and improvements to the calculati
 on of optimal debris avoidance maneuvers.
CATEGORIES:Seminars
LOCATION:Classroom 165\, ground floor\, Library\, Aerospace Eng.

END:VEVENT

BEGIN:VTIMEZONE

TZID:Asia/Jerusalem

X-LIC-LOCATION:Asia/Jerusalem

BEGIN:DAYLIGHT

DTSTART:20160325T030000

TZOFFSETFROM:+0200

TZOFFSETTO:+0300

TZNAME:IDT

END:DAYLIGHT

END:VTIMEZONE
END:VCALENDAR