BEGIN:VCALENDAR

VERSION:2.0

PRODID:-//wp-events-plugin.com//6.6.4.4//EN

TZID:Asia/Jerusalem

X-WR-TIMEZONE:Asia/Jerusalem
BEGIN:VEVENT

UID:0-188@aerospace.technion.ac.il

DTSTART;TZID=Asia/Jerusalem:20220221T013000

DTEND;TZID=Asia/Jerusalem:20220221T023000

DTSTAMP:20230108T145744Z

URL:https://aerospace.technion.ac.il/events/scalar-mixing-and-turbulent-st
 ructure-measurements-in-a-model-combustor/

SUMMARY:Scalar Mixing and Turbulent Structure Measurements in a Model Combu
 stor
DESCRIPTION:Lecturer:Burak Gokoz\n Faculty:Department of Aerospace Engineer
 ing\n Institute:Technion – Israel Institute of Technology\n Location:htt
 ps://technion.zoom.us/j/95930528324\n Zoom: \n Abstract: \n Details: \n Ex
 perimental measurements in actual combustors typically produce measurement
 s that are narrowly relevant to only specific geometries and not easily ge
 neralized. Moreover\, in experimental studies\, relevant mixing scales (e.
 g.\, Batchelor scales) are difficult to observe due to the resolution limi
 tations of the imaging sensors. As a result\, critical mixing features are
  not captured\, preventing a reasonable comparison with numerical results.
  In this project\, we aimed to overcome these challenges by experimentally
  resolving the mixing scales relevant to turbulent combustion by using a s
 implified and abstracted model combustion chamber.\nWe devised an experime
 ntal arrangement to simultaneously perform particle image velocimetry (PIV
 ) and planar laser induced fluorescence (PLIF) measurements in the model c
 ombustor chamber. Then we performed simultaneous velocity and scalar field
  measurements\, characterized the velocity and scalar field measurements\,
  and examined the possible connections between two fields.\nZoom Meeting
CATEGORIES:Seminars
LOCATION:https://technion.zoom.us/j/95930528324

END:VEVENT

BEGIN:VTIMEZONE

TZID:Asia/Jerusalem

X-LIC-LOCATION:Asia/Jerusalem

BEGIN:STANDARD

DTSTART:20211031T010000

TZOFFSETFROM:+0300

TZOFFSETTO:+0200

TZNAME:IST

END:STANDARD

END:VTIMEZONE
END:VCALENDAR