BEGIN:VCALENDAR

VERSION:2.0

PRODID:-//wp-events-plugin.com//6.6.4.4//EN

TZID:Asia/Jerusalem

X-WR-TIMEZONE:Asia/Jerusalem
BEGIN:VEVENT

UID:0-334@aerospace.technion.ac.il

DTSTART;TZID=Asia/Jerusalem:20190313T163000

DTEND;TZID=Asia/Jerusalem:20190313T173000

DTSTAMP:20230527T132616Z

URL:https://aerospace.technion.ac.il/events/space-navigation-with-an-omni-
 directional-vision-sensor/

SUMMARY:Space Navigation with an Omni-Directional Vision Sensor
DESCRIPTION:Lecturer:Omri Kaufman\n Faculty:TASP - Autonomous Systems and R
 obotics\n Institute:Technion – Israel Institute of Technology\n Location
 :Classroom 165\, ground floor\, Library\, Aerospace Eng.\n Zoom: \n Abstra
 ct: \n Details: \n With the onset of autonomous spacecraft formation flyin
 g missions\, the ability of satellites to autonomously navigate relatively
  to other space objects has become essential. To implement relative naviga
 tion\, relative measurements should be taken\, and fused using relative st
 ate estimation. An efficient way to generate such information is by using 
 vision-based measurements. Cameras are passive\, low-energy\, and informat
 ion-rich sensors that do not actively interact with other space object. Ho
 wever\, pointing cameras with a conventional field-of-view to other space 
 objects requires much a-priori initialization data\; in particular\, dedic
 ated attitude maneuvers are needed\, which may interfere with the satellit
 e’s main mission. One way to overcome these difficulties is to use an om
 nidirectional vision sensor\, which has a 360-degree horizontal field of v
 iew.\nIn this presentation\, we will discuss the development of an omnidir
 ectional vision sensor for satellites\, which can be used for relative nav
 igation\, formation flying\, and space situational awareness. The study in
 cludes the development of the measurement equations\, dynamical models\, a
 nd state estimation algorithms\, as well as an experimental investigation 
 conducted at the Distributed Space Systems Lab.
CATEGORIES:Seminars
LOCATION:Classroom 165\, ground floor\, Library\, Aerospace Eng.

END:VEVENT

BEGIN:VTIMEZONE

TZID:Asia/Jerusalem

X-LIC-LOCATION:Asia/Jerusalem

BEGIN:STANDARD

DTSTART:20181028T010000

TZOFFSETFROM:+0300

TZOFFSETTO:+0200

TZNAME:IST

END:STANDARD

END:VTIMEZONE
END:VCALENDAR