BEGIN:VCALENDAR

VERSION:2.0

PRODID:-//wp-events-plugin.com//6.6.4.4//EN

TZID:Asia/Jerusalem

X-WR-TIMEZONE:Asia/Jerusalem
BEGIN:VEVENT

UID:0-209@aerospace.technion.ac.il

DTSTART;TZID=Asia/Jerusalem:20220530T133000

DTEND;TZID=Asia/Jerusalem:20220530T143000

DTSTAMP:20230403T121921Z

URL:https://aerospace.technion.ac.il/events/space-programs-why-and-how/

SUMMARY:Space Programs: Why and How
DESCRIPTION:Lecturer:Dmitry Payson\n Faculty:\n Institute:\n Location:Class
 room 165\, ground floor\, Library\, Aerospace Eng. &   https://technion.zo
 om.us/j/93657669627\n Zoom: \n Abstract: \n Details: \n The presentation p
 rovides an overview of the space program and industry system research and 
 education efforts performed in recent years. It is concentrated at Why's a
 nd How's of the national space program and industry restructuring efforts 
 and corresponded institutional design exercises. Basically\, this lecture 
 summarizes the efforts of building ‘the space program with the human fac
 e’. The key topics include (1) A practical example of the national space
  industry restructuring effort in 2010-2015\; (2) Actual issues of the spa
 ce markets’ modelling\; (3) An overview of the public goods concept appl
 ication to the space economics\; (4) Skolkovo\, a brave endeavor for the p
 rivate space greenfield. In additional\, the vision of the actual economic
  research topics will be provided addressing the current international spa
 ce market and industry development\, like New Space\, space resources comm
 ercialization et al.
CATEGORIES:Seminars
LOCATION:Classroom 165\, ground floor\, Library\, Aerospace Eng. &   https:
 //technion.zoom.us/j/93657669627

END:VEVENT

BEGIN:VTIMEZONE

TZID:Asia/Jerusalem

X-LIC-LOCATION:Asia/Jerusalem

BEGIN:DAYLIGHT

DTSTART:20220325T030000

TZOFFSETFROM:+0200

TZOFFSETTO:+0300

TZNAME:IDT

END:DAYLIGHT

END:VTIMEZONE
END:VCALENDAR