BEGIN:VCALENDAR

VERSION:2.0

PRODID:-//wp-events-plugin.com//6.6.4.4//EN

TZID:Asia/Jerusalem

X-WR-TIMEZONE:Asia/Jerusalem
BEGIN:VEVENT

UID:0-386@aerospace.technion.ac.il

DTSTART;TZID=Asia/Jerusalem:20180430T163000

DTEND;TZID=Asia/Jerusalem:20180430T173000

DTSTAMP:20230527T140826Z

URL:https://aerospace.technion.ac.il/events/start-up-stories-lecture-1-gel
 -propulsion-to-space-and-beyond-newrocket/

SUMMARY:Start-Up Stories\, Lecture #1 - "Gel Propulsion – To Space and Be
 yond" - NewRocket
DESCRIPTION:Lecturer:Moti Elyashiv\n Faculty:\n Institute:NewRocket\n Locat
 ion:Classroom 165\, ground floor\, Library\, Aerospace Eng.\n Zoom: \n Abs
 tract: \n Details: \n Founded in 2014\, NewRocket is a Technion spin-off d
 eveloping rocket engines for the space and aviation markets. The company c
 ore technology is based on decades of research activities conducted in the
  Fine Rocket Propulsion Center under the leadership of Prof. Benny Natan.\
 n\nThe lecture will focus on the company's innovative applications for spa
 ce and other markets and will provide some insights of the business journe
 y of a unique aerospace start-up. The lecture will include a brief technic
 al introduction covering rocket propulsion and gel propulsion basics.\n\n\
 n\n&nbsp\;
CATEGORIES:Seminars
LOCATION:Classroom 165\, ground floor\, Library\, Aerospace Eng.

END:VEVENT

BEGIN:VTIMEZONE

TZID:Asia/Jerusalem

X-LIC-LOCATION:Asia/Jerusalem

BEGIN:DAYLIGHT

DTSTART:20180323T030000

TZOFFSETFROM:+0200

TZOFFSETTO:+0300

TZNAME:IDT

END:DAYLIGHT

END:VTIMEZONE
END:VCALENDAR