BEGIN:VCALENDAR

VERSION:2.0

PRODID:-//wp-events-plugin.com//6.6.4.4//EN

TZID:Asia/Jerusalem

X-WR-TIMEZONE:Asia/Jerusalem
BEGIN:VEVENT

UID:0-374@aerospace.technion.ac.il

DTSTART;TZID=Asia/Jerusalem:20180521T160000

DTEND;TZID=Asia/Jerusalem:20180521T170000

DTSTAMP:20230527T140250Z

URL:https://aerospace.technion.ac.il/events/start-up-stories-lecture-3-rev
 olutionizing-satellite-communication-by-using-expandable-antennas-nslcomm/

SUMMARY:Start-Up Stories\, Lecture #3: "Revolutionizing Satellite Communica
 tion by Using Expandable Antennas" - NSLComm
DESCRIPTION:Lecturer:Dr. Raz Itzhaki\n Faculty:\n Institute:NSLComm\n Locat
 ion:Classroom 165\, ground floor\, Library\, Aerospace Eng.\n Zoom: \n Abs
 tract: \n Details: \n By changing the norm for Geostationary (GEO) and Low
 er Earth Orbit (LEO) satellite manufacturers’ antenna fabrication techno
 logy\, incorporating NSLComm’s transformational product will increase ba
 ndwidth on NanoSats and GEOs by a factor of ten (for GEO) and one hundred 
 for (LEO) while providing a cost-effective and rocket-storage optimized so
 lution.\n\nNSLComm (NSL) provides satellite manufacturers with unprecedent
 ed large aperture expandable antennas for satellite communications. With a
 dvancements such as designing and incorporating an adaptive corrective and
  pattern shaping sub-reflector and shape memory polymer reflectors\, NSL c
 reates lightweight expandable antennas. These are of a compact volume when
  stowed during launch\, permit for continual beam control and shaping and 
 provide very high throughput satellite (VHTS) bandwidth performance.  Key
  benefits include higher bandwidth and power for extremely fast internet\,
  Ultra High Def (4K) video support\, in-flight connectivity\, LEO to GEO c
 omms\, and more. NSL solution provides a lower price per bit to the end-us
 er and market growth for the provider.\n\n\n.
CATEGORIES:Seminars
LOCATION:Classroom 165\, ground floor\, Library\, Aerospace Eng.

END:VEVENT

BEGIN:VTIMEZONE

TZID:Asia/Jerusalem

X-LIC-LOCATION:Asia/Jerusalem

BEGIN:DAYLIGHT

DTSTART:20180323T030000

TZOFFSETFROM:+0200

TZOFFSETTO:+0300

TZNAME:IDT

END:DAYLIGHT

END:VTIMEZONE
END:VCALENDAR