BEGIN:VCALENDAR

VERSION:2.0

PRODID:-//wp-events-plugin.com//6.6.4.4//EN

TZID:Asia/Jerusalem

X-WR-TIMEZONE:Asia/Jerusalem
BEGIN:VEVENT

UID:0-373@aerospace.technion.ac.il

DTSTART;TZID=Asia/Jerusalem:20180620T163000

DTEND;TZID=Asia/Jerusalem:20180620T173000

DTSTAMP:20230527T140230Z

URL:https://aerospace.technion.ac.il/events/start-up-stories-lecture-6-bei
 ng-a-drone-market-enabler-parazero/

SUMMARY:Start-Up Stories\, Lecture #6: “Being a Drone Market Enabler" - P
 araZero
DESCRIPTION:Lecturer:Eyal Regev\n Faculty:\n Institute:PARAZERO Drone Safet
 y Systems\n Location:Classroom 165\, ground floor\, Library\, Aerospace En
 g.\n Zoom: \n Abstract: \n Details: \n Managing the Triangle: Technology\,
  Regulations and the Market of commercial drones.\n\nNew breakthroughs in 
 safety measures that enabled new air traffic regulations\, which pave the 
 path to a multi-billion dollar market and a revolutionary change in the w
 orld of trade and commerce.\n\n\n\n
CATEGORIES:Seminars
LOCATION:Classroom 165\, ground floor\, Library\, Aerospace Eng.

END:VEVENT

BEGIN:VTIMEZONE

TZID:Asia/Jerusalem

X-LIC-LOCATION:Asia/Jerusalem

BEGIN:DAYLIGHT

DTSTART:20180323T030000

TZOFFSETFROM:+0200

TZOFFSETTO:+0300

TZNAME:IDT

END:DAYLIGHT

END:VTIMEZONE
END:VCALENDAR