BEGIN:VCALENDAR

VERSION:2.0

PRODID:-//wp-events-plugin.com//6.6.4.4//EN

TZID:Asia/Jerusalem

X-WR-TIMEZONE:Asia/Jerusalem
BEGIN:VEVENT

UID:0-380@aerospace.technion.ac.il

DTSTART;TZID=Asia/Jerusalem:20180618T163000

DTEND;TZID=Asia/Jerusalem:20180618T173000

DTSTAMP:20230527T140644Z

URL:https://aerospace.technion.ac.il/events/start-up-stories-lecture-6-dev
 elopment-of-a-new-rotor-with-efficiency-up-to-4-times-higher-than-conventi
 onal-rotors-and-a-significantly-lower-noise-level-optivector/

SUMMARY:Start-Up Stories\, Lecture #5: “Development of a New Rotor with E
 fficiency up to 4 Times Higher than Conventional Rotors and a Significantl
 y Lower Noise Level" - OptiVector
DESCRIPTION:Lecturer:\n Faculty:\n Institute:Optivector\n Location:Classroo
 m 165\, ground floor\, Library\, Aerospace Eng.\n Zoom: \n Abstract: \n De
 tails: \n The presentation will describe the limitations of current rotors
 \, explain why several countries have recently started to work again on th
 e cycloidal rotor\, a technology invented 80 years ago\, and present OptiV
 ector’s revision of the cycloidal rotor concept in order to achieve unpr
 ecedented lift force and limited noise. The presentation will then describ
 e the market potential and some major applications.\n\n\n\n.\n\n&nbsp\;
CATEGORIES:Seminars
LOCATION:Classroom 165\, ground floor\, Library\, Aerospace Eng.

END:VEVENT

BEGIN:VTIMEZONE

TZID:Asia/Jerusalem

X-LIC-LOCATION:Asia/Jerusalem

BEGIN:DAYLIGHT

DTSTART:20180323T030000

TZOFFSETFROM:+0200

TZOFFSETTO:+0300

TZNAME:IDT

END:DAYLIGHT

END:VTIMEZONE
END:VCALENDAR