BEGIN:VCALENDAR

VERSION:2.0

PRODID:-//wp-events-plugin.com//6.6.4.4//EN

TZID:Asia/Jerusalem

X-WR-TIMEZONE:Asia/Jerusalem
BEGIN:VEVENT

UID:0-27@aerospace.technion.ac.il

DTSTART;TZID=Asia/Jerusalem:20141106T090000

DTEND;TZID=Asia/Jerusalem:20141106T170000

DTSTAMP:20221030T083403Z

URL:https://aerospace.technion.ac.il/events/the-13th-israeli-symposium-on-
 jet-engines-and-gas-turbines/

SUMMARY:THE 13TH ISRAELI SYMPOSIUM ON JET ENGINES AND GAS TURBINES
DESCRIPTION:Lecturer:\n Faculty:Department of Aerospace Engineering\n Insti
 tute:Technion – Israel Institute of Technology\n Location:Aerospace Facu
 lty Auditorium\, room no. 235\n Zoom: \n Abstract: \n Details: THE 13TH (B
 ar Mitva) ISRAELI SYMPOSIUM ON JET ENGINES AND GAS TURBINES will be held o
 n November 6th\, 2014 at the Auditorium of the department of Aerospace En
 gineering\, Technion\, (room 235).\nIt concerns the different topics assoc
 iated with the jet engine and gas turbine industry. The lectures will be p
 resented by top expert from Israel and abroad. The symposium will also inc
 lude a display of several Israeli-made jet engines and components.\nFor th
 e program of the symposium\, see here.\nThose who plan to attend the sympo
 sium (highly recommended...) and did not register yet\, are kindly request
 ed to do so using the attached form.\nLooking forward to seeing you in the
  symposium!\n 
CATEGORIES:Events
LOCATION:Aerospace Faculty Auditorium\, room no. 235

END:VEVENT

BEGIN:VTIMEZONE

TZID:Asia/Jerusalem

X-LIC-LOCATION:Asia/Jerusalem

BEGIN:STANDARD

DTSTART:20141026T010000

TZOFFSETFROM:+0300

TZOFFSETTO:+0200

TZNAME:IST

END:STANDARD

END:VTIMEZONE
END:VCALENDAR