BEGIN:VCALENDAR

VERSION:2.0

PRODID:-//wp-events-plugin.com//6.6.4.4//EN

TZID:Asia/Jerusalem

X-WR-TIMEZONE:Asia/Jerusalem
BEGIN:VEVENT

UID:0-809@aerospace.technion.ac.il

DTSTART;TZID=Asia/Jerusalem:20240724T123000

DTEND;TZID=Asia/Jerusalem:20240724T143000

DTSTAMP:20240709T091342Z

URL:https://aerospace.technion.ac.il/events/the-1st-annual-gvahim-excellen
 ce-program-event/

SUMMARY:The 1st annual GVAHIM excellence program event
DESCRIPTION:Lecturer:\n Faculty:Department of Aerospace Engineering\n Insti
 tute:Technion – Israel Institute of Technology\n Location:Classroom 165\
 , ground floor\, Library\, Aerospace Eng.\n Zoom: \n Abstract: \n Details:
  \n 
CATEGORIES:Seminars
LOCATION:Classroom 165\, ground floor\, Library\, Aerospace Eng.

END:VEVENT

BEGIN:VTIMEZONE

TZID:Asia/Jerusalem

X-LIC-LOCATION:Asia/Jerusalem

BEGIN:DAYLIGHT

DTSTART:20240329T030000

TZOFFSETFROM:+0200

TZOFFSETTO:+0300

TZNAME:IDT

END:DAYLIGHT

END:VTIMEZONE
END:VCALENDAR