BEGIN:VCALENDAR

VERSION:2.0

PRODID:-//wp-events-plugin.com//6.6.4.4//EN

TZID:Asia/Jerusalem

X-WR-TIMEZONE:Asia/Jerusalem
BEGIN:VEVENT

UID:0-13@aerospace.technion.ac.il

DTSTART;TZID=Asia/Jerusalem;VALUE=DATE:20170315

DTEND;TZID=Asia/Jerusalem;VALUE=DATE:20170317

DTSTAMP:20221030T083427Z

URL:https://aerospace.technion.ac.il/events/the-57th-israel-annual-confere
 nce-on-aerospace-sciences-iacas/

SUMMARY:The 57th Israel Annual Conference on Aerospace Sciences (IACAS)
DESCRIPTION:Lecturer:\n Faculty:Department of Aerospace Engineering\n Insti
 tute:Technion – Israel Institute of Technology\n Location:Dan Panorama T
 el Aviv Hotel and the Technion campus\n Zoom: \n Abstract: \n Details: The
  57th IACAS  will take place on:\nMarch 15\, 2017 – Dan Panorama Hotel
 \, Tel Aviv\, Israel\nMarch 16\, 2017 – Technion Campus\, Haifa\, Israel
 \nThe Israel Annual Conference on Aerospace Sciences\, spanning several ge
 nerations\, is an important annual event on the calendar of the aerospac
 e community in Israel and arouses a great deal of interest abroad. Taking 
 part in this yearly event are engineers\, scientists and experts in the 
 field of aeronautics and astronautics\, representing well-known local aero
 space agencies and industries\, as well as participants from major resea
 rch centers worldwide.\nThe two day conference covers new research\, prese
 nts up-to-date technology and provides a forum for exchanging new ideas.\n
 \n 
CATEGORIES:Events
LOCATION:Dan Panorama Tel Aviv Hotel and the Technion campus

END:VEVENT

BEGIN:VTIMEZONE

TZID:Asia/Jerusalem

X-LIC-LOCATION:Asia/Jerusalem

BEGIN:STANDARD

DTSTART:20161030T010000

TZOFFSETFROM:+0300

TZOFFSETTO:+0200

TZNAME:IST

END:STANDARD

END:VTIMEZONE
END:VCALENDAR