BEGIN:VCALENDAR

VERSION:2.0

PRODID:-//wp-events-plugin.com//6.6.4.4//EN

TZID:Asia/Jerusalem

X-WR-TIMEZONE:Asia/Jerusalem
BEGIN:VEVENT

UID:0-544@aerospace.technion.ac.il

DTSTART;TZID=Asia/Jerusalem:20230828T133000

DTEND;TZID=Asia/Jerusalem:20230828T143000

DTSTAMP:20230828T112015Z

URL:https://aerospace.technion.ac.il/events/the-bridge-between-optimizatio
 n-and-simulation-applications-to-atm/

SUMMARY:The Bridge Between Optimization and Simulation: Applications to ATM
DESCRIPTION:Lecturer:Prof. Daniel Delahaye \n Faculty:Head of Optimization 
 and Machine Learning Team\n Institute:ENAC : French Civil Aviation Univers
 ity\, Toulouse\, France\n Location:\n Zoom: https://technion.zoom.us/j/973
 46140543\n Abstract: The talk will start with a brief overview of the opti
 mization methods and machine learning (ML) algorithms\, focusing on the ob
 jective function evaluation. The benefit obtained by connecting optimizati
 on and simulation will then be addressed. Such an optimization-simulation 
 approach can be also improved by the mean of machine learning. Application
 s to air traffic management operations will then be presented\, covering t
 rajectory planning\, automatic sector design\, SID-STAR automatic design\,
  emergency trajectory design\, AMAN-SMAN-DMAN integration at CDG\, and mor
 e.\n Details: \n 
CATEGORIES:Seminars

END:VEVENT

BEGIN:VTIMEZONE

TZID:Asia/Jerusalem

X-LIC-LOCATION:Asia/Jerusalem

BEGIN:DAYLIGHT

DTSTART:20230324T030000

TZOFFSETFROM:+0200

TZOFFSETTO:+0300

TZNAME:IDT

END:DAYLIGHT

END:VTIMEZONE
END:VCALENDAR