BEGIN:VCALENDAR

VERSION:2.0

PRODID:-//wp-events-plugin.com//6.6.4.4//EN

TZID:Asia/Jerusalem

X-WR-TIMEZONE:Asia/Jerusalem
BEGIN:VEVENT

UID:0-423@aerospace.technion.ac.il

DTSTART;TZID=Asia/Jerusalem:20170626T163000

DTEND;TZID=Asia/Jerusalem:20170626T173000

DTSTAMP:20230530T180700Z

URL:https://aerospace.technion.ac.il/events/the-flow-generated-by-an-oscil
 lating-plate/

SUMMARY:The Flow Generated by an Oscillating Plate
DESCRIPTION:Lecturer:Gregory Khodos\n Faculty:Department of Aerospace Engin
 eering\n Institute:Technion – Israel Institute of Technology\n Location:
 Classroom 165\, ground floor\, Library\, Aerospace Eng.\n Zoom: \n Abstrac
 t: \n Details: \n We study the flow generated by the periodic pitching mot
 ion of a 2D rigid plate about its fixed end in an unbounded incompressible
  fluid which is otherwise at rest\, as a simple model of the operation of 
 micro fans. The problem\, which is inherently non-linear even for small-am
 plitude oscillations\, is addressed within the framework of a semi-analyti
 c model of inviscid flow incorporating concentrated vortex shedding at the
  free end. This semi-analytic model successfully predicts the longitudinal
  impulse imparted to the fluid in agreement with NS (FLUENT) simulations p
 roviding insight into the physical mechanisms underlying the primary contr
 ibutions to the impulse.
CATEGORIES:Seminars
LOCATION:Classroom 165\, ground floor\, Library\, Aerospace Eng.

END:VEVENT

BEGIN:VTIMEZONE

TZID:Asia/Jerusalem

X-LIC-LOCATION:Asia/Jerusalem

BEGIN:DAYLIGHT

DTSTART:20170324T030000

TZOFFSETFROM:+0200

TZOFFSETTO:+0300

TZNAME:IDT

END:DAYLIGHT

END:VTIMEZONE
END:VCALENDAR