BEGIN:VCALENDAR

VERSION:2.0

PRODID:-//wp-events-plugin.com//6.6.4.4//EN

TZID:Asia/Jerusalem

X-WR-TIMEZONE:Asia/Jerusalem
BEGIN:VEVENT

UID:0-34@aerospace.technion.ac.il

DTSTART;TZID=Asia/Jerusalem:20170226T090000

DTEND;TZID=Asia/Jerusalem:20170226T100000

DTSTAMP:20221030T083425Z

URL:https://aerospace.technion.ac.il/events/the-third-scientific-conferenc
 e-for-high-school-students-in-haifa/

SUMMARY:The Third Scientific Conference for High School Students in Haifa
DESCRIPTION:Lecturer:\n Faculty:Department of Aerospace Engineering\n Insti
 tute:Technion – Israel Institute of Technology\n Location:The Technion C
 ampus\n Zoom: \n Abstract: \n Details: This conference will be held at the
  Technion and will last three days\, during which the students will meet r
 esearchers from the Technion\, tour in various faculties\, attend lecture
 s and be exposed to science and engineering demonstrations.\nAs in previou
 s years\, the students will also tour the faculty of Aerospace Engineering
  and hear fascinating lectures in the field.\n 
CATEGORIES:Events
LOCATION:The Technion Campus

END:VEVENT

BEGIN:VTIMEZONE

TZID:Asia/Jerusalem

X-LIC-LOCATION:Asia/Jerusalem

BEGIN:STANDARD

DTSTART:20161030T010000

TZOFFSETFROM:+0300

TZOFFSETTO:+0200

TZNAME:IST

END:STANDARD

END:VTIMEZONE
END:VCALENDAR