BEGIN:VCALENDAR

VERSION:2.0

PRODID:-//wp-events-plugin.com//6.6.4.4//EN

TZID:Asia/Jerusalem

X-WR-TIMEZONE:Asia/Jerusalem
BEGIN:VEVENT

UID:0-262@aerospace.technion.ac.il

DTSTART;TZID=Asia/Jerusalem:20210426T123000

DTEND;TZID=Asia/Jerusalem:20210426T133000

DTSTAMP:20230525T063642Z

URL:https://aerospace.technion.ac.il/events/thrust-vectoring-and-after-bur
 ner-system-for-increasing-survivability-of-micro-jet-uavs/

SUMMARY:Thrust Vectoring and After Burner System for Increasing Survivabili
 ty of Micro-Jet UAVs
DESCRIPTION:Lecturer:Dor Shitrit\n Faculty:Department of Aerospace Engineer
 ing\n Institute:Technion – Israel Institute of Technology\n Location:htt
 ps://technion.zoom.us/j/92658464337\n Zoom: \n Abstract: \n Details: \n A 
 major current threat on Unmanned Aerial Vehicles (UAVs) and Air-to-Surface
  Missiles (ASM) is being intercepted by Surface-to-Air Missiles (SAMs) wit
 h maneuvering capabilities. There are many methods to increase the surviva
 bility of such UAV and ASM while the challenge is keeping them cost-effect
 ive and relevant to the modern battlefield.\nOne of the ways to increase s
 urvivability is by improving agility. Agility of an aircraft can be improv
 ed by using thrust vectoring and activation of an after burner. It enables
  the platform to accelerate by operating the aft burner while vectorizing 
 the thrust -thus “breaking lock” from the potential threat.\nThis stud
 y aims to investigate such integration in micro turbo jet UAVs. It include
 s dynamic simulation of the after burner as well as the vectoring nozzle s
 ystems and their effect on the aircraft overall performance. A total of 3 
 engine power configurations (basic with constant nozzle\, adjustable nozzl
 e\, adjustable nozzle with aft burner) and 2 vectoring configurations (wit
 h/without) are examined.\nFor this purpose\, Dornier "DT-45" UAV and "SA7-
 Strella" SAM are chosen as target and interceptor demonstrators. Whole eng
 ine decks are created including designing engine control system to withsta
 nd the engine limitations during the transient state. Drag polar\, stabili
 ty &amp\; control derivations of the target and interceptor main character
 istics are estimated. Evasive maneuver is characterized\, and a dedicated 
 aircraft control system is implemented to support it.  Finally\, a quanti
 tative analysis for the joint contribution of thrust vectoring and after b
 urner to the survivability of the aircraft is introduced by implementation
  of interception simulation.\nZoom meeting
CATEGORIES:Seminars
LOCATION:https://technion.zoom.us/j/92658464337

END:VEVENT

BEGIN:VTIMEZONE

TZID:Asia/Jerusalem

X-LIC-LOCATION:Asia/Jerusalem

BEGIN:DAYLIGHT

DTSTART:20210326T030000

TZOFFSETFROM:+0200

TZOFFSETTO:+0300

TZNAME:IDT

END:DAYLIGHT

END:VTIMEZONE
END:VCALENDAR