BEGIN:VCALENDAR

VERSION:2.0

PRODID:-//wp-events-plugin.com//6.6.4.4//EN

TZID:Asia/Jerusalem

X-WR-TIMEZONE:Asia/Jerusalem
BEGIN:VEVENT

UID:0-12@aerospace.technion.ac.il

DTSTART;TZID=Asia/Jerusalem:20161115T083000

DTEND;TZID=Asia/Jerusalem:20161115T173000

DTSTAMP:20221030T083419Z

URL:https://aerospace.technion.ac.il/events/workshop-on-advances-in-micro-
 gas-turbine-cycle-modeling-and-turbine-hot-section-design-practices/

SUMMARY:Workshop on Advances in Micro Gas Turbine Cycle Modeling and Turbin
 e Hot Section Design Practices
DESCRIPTION:Lecturer:\n Faculty:Department of Aerospace Engineering\n Insti
 tute:Technion – Israel Institute of Technology\n Location:Aerospace Facu
 lty Auditorium\, Room 235\n Zoom: \n Abstract: \n Details: We will be once
  again hosting a turbomachinery workshop\,  this time titled " Workshop o
 n Advances in Micro Gas Turbine Cycle Modeling and Turbine Hot Section Des
 ign Practices". The two distinguished guest lecturers are Mr. Joachim Kurz
 ke and Dr. Boris Glezer\, from "MTU Aero Engines / GasTurb" and "Solar Tur
 bine / Optimized Turbine Solutions" respectively.\nFor the program\, plea
 se click here.\nThe training activities will be open for all students\, in
 dustry and academic staff.\n 
CATEGORIES:Events
LOCATION:Aerospace Faculty Auditorium\, Room 235

END:VEVENT

BEGIN:VTIMEZONE

TZID:Asia/Jerusalem

X-LIC-LOCATION:Asia/Jerusalem

BEGIN:STANDARD

DTSTART:20161030T010000

TZOFFSETFROM:+0300

TZOFFSETTO:+0200

TZNAME:IST

END:STANDARD

END:VTIMEZONE
END:VCALENDAR